BEGIN:VCALENDAR
VERSION:2.0
PRODID:-//Health Training Institute - ECPv6.6.0.2//NONSGML v1.0//EN
CALSCALE:GREGORIAN
METHOD:PUBLISH
X-WR-CALNAME:Health Training Institute
X-ORIGINAL-URL:https://hetins.com
X-WR-CALDESC:Eventos para Health Training Institute
REFRESH-INTERVAL;VALUE=DURATION:PT1H
X-Robots-Tag:noindex
X-PUBLISHED-TTL:PT1H
BEGIN:VTIMEZONE
TZID:America/New_York
BEGIN:DAYLIGHT
TZOFFSETFROM:-0500
TZOFFSETTO:-0400
TZNAME:EDT
DTSTART:20240310T070000
END:DAYLIGHT
BEGIN:STANDARD
TZOFFSETFROM:-0400
TZOFFSETTO:-0500
TZNAME:EST
DTSTART:20241103T060000
END:STANDARD
END:VTIMEZONE
BEGIN:VEVENT
DTSTART;TZID=America/New_York:20240605T080000
DTEND;TZID=America/New_York:20240607T170000
DTSTAMP:20260421T043737
CREATED:20240409T184031Z
LAST-MODIFIED:20240409T184031Z
UID:8593-1717574400-1717779600@hetins.com
SUMMARY:Congreso SIAC 2024
DESCRIPTION:En nombre de la Sociedad Interamericana de Cardiología es para nosotros un gran placer anunciarles la realización de nuestro próximo 31° Congreso Interamericano de Cardiología. El mismo tendrá lugar en la Ciudad de México del 5 al 7 de Junio de 2024. \nHemos seleccionado como sede el centro de convenciones del Hotel Camino Real Polanco\, emplazado en la zona de Polanco\, el cual nos brinda todas las facilidades requeridas para un evento de estas características. \nEl comité científico ha elaborado un intenso y atractivo programa\, el cual no tenemos dudas será de gran interés para la comunidad cardiológica de nuestra región. \nDespués del éxito alcanzado por el Congreso SIAC 2022 en la ciudad de Miami\,y por el Congreso SIAC 2023 en la Ciudad de Panamá estamos persuadidos que repetiremos un gran encuentro de la cardiologia las Américas\, donde compartiremos ciencia y experiencias en un marco de gran confraternidad y amistad. \nLos invitamos a ser parte de este evento y evaluar en conjunto oportunidades de colaboración con nuestra Sociedad.
URL:https://hetins.com/event/congreso-siac-2024/
CATEGORIES:Cardiología
ATTACH;FMTTYPE=image/jpeg:https://hetins.com/wp-content/uploads/2024/04/Diseno-sin-titulo-9.jpg
END:VEVENT
END:VCALENDAR