BEGIN:VCALENDAR
VERSION:2.0
PRODID:-//Health Training Institute - ECPv6.6.0.2//NONSGML v1.0//EN
CALSCALE:GREGORIAN
METHOD:PUBLISH
X-WR-CALNAME:Health Training Institute
X-ORIGINAL-URL:https://hetins.com
X-WR-CALDESC:Eventos para Health Training Institute
REFRESH-INTERVAL;VALUE=DURATION:PT1H
X-Robots-Tag:noindex
X-PUBLISHED-TTL:PT1H
BEGIN:VTIMEZONE
TZID:America/New_York
BEGIN:DAYLIGHT
TZOFFSETFROM:-0500
TZOFFSETTO:-0400
TZNAME:EDT
DTSTART:20250309T070000
END:DAYLIGHT
BEGIN:STANDARD
TZOFFSETFROM:-0400
TZOFFSETTO:-0500
TZNAME:EST
DTSTART:20251102T060000
END:STANDARD
END:VTIMEZONE
BEGIN:VEVENT
DTSTART;TZID=America/New_York:20251022T080000
DTEND;TZID=America/New_York:20251025T170000
DTSTAMP:20260425T221802
CREATED:20250708T172237Z
LAST-MODIFIED:20250708T172237Z
UID:56240-1761120000-1761411600@hetins.com
SUMMARY:Congreso Mundial de Accidentes Cerebrovasculares
DESCRIPTION:Fecha: 22 al 25 de octubre de 2025\nLugar: Barcelona\, España\nOrganiza: World Stroke Organization
URL:https://hetins.com/event/congreso-mundial-de-accidentes-cerebrovasculares/
CATEGORIES:Cardiología
ATTACH;FMTTYPE=image/png:https://hetins.com/wp-content/uploads/2025/07/WSC2025_Banner_1200x628px_RGB_090125.png
END:VEVENT
END:VCALENDAR