BEGIN:VCALENDAR
VERSION:2.0
PRODID:-//Health Training Institute - ECPv6.6.0.2//NONSGML v1.0//EN
CALSCALE:GREGORIAN
METHOD:PUBLISH
X-ORIGINAL-URL:https://hetins.com
X-WR-CALDESC:Eventos para Health Training Institute
REFRESH-INTERVAL;VALUE=DURATION:PT1H
X-Robots-Tag:noindex
X-PUBLISHED-TTL:PT1H
BEGIN:VTIMEZONE
TZID:America/New_York
BEGIN:DAYLIGHT
TZOFFSETFROM:-0500
TZOFFSETTO:-0400
TZNAME:EDT
DTSTART:20240310T070000
END:DAYLIGHT
BEGIN:STANDARD
TZOFFSETFROM:-0400
TZOFFSETTO:-0500
TZNAME:EST
DTSTART:20241103T060000
END:STANDARD
BEGIN:DAYLIGHT
TZOFFSETFROM:-0500
TZOFFSETTO:-0400
TZNAME:EDT
DTSTART:20250309T070000
END:DAYLIGHT
BEGIN:STANDARD
TZOFFSETFROM:-0400
TZOFFSETTO:-0500
TZNAME:EST
DTSTART:20251102T060000
END:STANDARD
END:VTIMEZONE
BEGIN:VEVENT
DTSTART;TZID=America/New_York:20251204T080000
DTEND;TZID=America/New_York:20251208T170000
DTSTAMP:20260425T120522
CREATED:20241102T182631Z
LAST-MODIFIED:20241102T182631Z
UID:9476-1764835200-1765213200@hetins.com
SUMMARY:75º Congreso Nacional de Urología 2024
DESCRIPTION:Fecha: 4 al 8 de diciembre de 2024\nLugar: Cancún\, México\nOrganiza: Sociedad Mexicana de Urología
URL:https://hetins.com/event/75o-congreso-nacional-de-urologia-2024/
ATTACH;FMTTYPE=image/svg+xml:https://hetins.com/wp-content/uploads/2024/11/smu-logo.svg
END:VEVENT
BEGIN:VEVENT
DTSTART;TZID=America/New_York:20251204T080000
DTEND;TZID=America/New_York:20251205T170000
DTSTAMP:20260425T120522
CREATED:20241105T153515Z
LAST-MODIFIED:20241105T153515Z
UID:9554-1764835200-1764954000@hetins.com
SUMMARY:XV Congreso Internacional de Salud\, Bienestar y Sociedad
DESCRIPTION:Fecha: 4-5 de septiembre de 2025\nLugar: Universidad de Granada\, España\nDescripción: Este congreso abordará temas relacionados con la inteligencia emocional y artificial en el ámbito sanitario.
URL:https://hetins.com/event/xv-congreso-internacional-de-salud-bienestar-y-sociedad/
CATEGORIES:Inteligencia Artificial
ATTACH;FMTTYPE=image/png:https://hetins.com/wp-content/uploads/2024/11/W25es_CfP_Banner.png
END:VEVENT
BEGIN:VEVENT
DTSTART;TZID=America/New_York:20251127T080000
DTEND;TZID=America/New_York:20251129T170000
DTSTAMP:20260425T120522
CREATED:20241102T182949Z
LAST-MODIFIED:20241102T182949Z
UID:9483-1764230400-1764435600@hetins.com
SUMMARY:XLV Congreso Chileno de Urología
DESCRIPTION:Fecha: 27 al 29 de noviembre de 2024\nLugar: Santiago\, Chile\nOrganiza: Sociedad Chilena de Urología
URL:https://hetins.com/event/xlv-congreso-chileno-de-urologia/
ATTACH;FMTTYPE=image/svg+xml:https://hetins.com/wp-content/uploads/2024/11/title.svg
END:VEVENT
BEGIN:VEVENT
DTSTART;TZID=America/New_York:20251119T080000
DTEND;TZID=America/New_York:20251122T170000
DTSTAMP:20260425T120522
CREATED:20250708T172549Z
LAST-MODIFIED:20250708T172549Z
UID:56243-1763539200-1763830800@hetins.com
SUMMARY:XIX Congreso Latinoamericano de Diabetes
DESCRIPTION:Fecha: 19 al 22 noviembrede 2025\nLugar: Centro de Convenciones de Cusco-Palacio Municipal\, Perú\nOrganiza: Asociación Latinoamericana de Diabetes (ALAD)
URL:https://hetins.com/event/xix-congreso-latinoamericano-de-diabetes/
CATEGORIES:Medicina General
ATTACH;FMTTYPE=image/jpeg:https://hetins.com/wp-content/uploads/2025/07/images.jpg
END:VEVENT
BEGIN:VEVENT
DTSTART;TZID=America/New_York:20251022T080000
DTEND;TZID=America/New_York:20251025T170000
DTSTAMP:20260425T120522
CREATED:20250708T172237Z
LAST-MODIFIED:20250708T172237Z
UID:56240-1761120000-1761411600@hetins.com
SUMMARY:Congreso Mundial de Accidentes Cerebrovasculares
DESCRIPTION:Fecha: 22 al 25 de octubre de 2025\nLugar: Barcelona\, España\nOrganiza: World Stroke Organization
URL:https://hetins.com/event/congreso-mundial-de-accidentes-cerebrovasculares/
CATEGORIES:Cardiología
ATTACH;FMTTYPE=image/png:https://hetins.com/wp-content/uploads/2025/07/WSC2025_Banner_1200x628px_RGB_090125.png
END:VEVENT
BEGIN:VEVENT
DTSTART;TZID=America/New_York:20251009T080000
DTEND;TZID=America/New_York:20251011T170000
DTSTAMP:20260425T120522
CREATED:20241102T182833Z
LAST-MODIFIED:20241102T182833Z
UID:9479-1759996800-1760202000@hetins.com
SUMMARY:36º Congreso de la Asociación Andaluza de Urología
DESCRIPTION:Fecha: 9 al 11 de octubre de 2025\nLugar: Cádiz\, España\nOrganiza: Asociación Andaluza de Urología
URL:https://hetins.com/event/36o-congreso-de-la-asociacion-andaluza-de-urologia/
ATTACH;FMTTYPE=image/jpeg:https://hetins.com/wp-content/uploads/2024/11/5551710505394o.jpg
END:VEVENT
BEGIN:VEVENT
DTSTART;TZID=America/New_York:20250917T080000
DTEND;TZID=America/New_York:20250920T170000
DTSTAMP:20260425T120522
CREATED:20250708T171736Z
LAST-MODIFIED:20250708T171736Z
UID:56234-1758096000-1758387600@hetins.com
SUMMARY:Congreso Europeo de Dermatología 2025
DESCRIPTION:Fecha: 17 al 20 de septiembre\nLugar: París\, Francia\nOrganiza: European Academy of Dermatology and Venereology
URL:https://hetins.com/event/congreso-europeo-de-dermatologia-2025/
CATEGORIES:Medicina General
ATTACH;FMTTYPE=image/jpeg:https://hetins.com/wp-content/uploads/2025/07/eadv-congress-2025-paris-1.jpg
END:VEVENT
BEGIN:VEVENT
DTSTART;TZID=America/New_York:20250917T080000
DTEND;TZID=America/New_York:20250920T170000
DTSTAMP:20260425T120522
CREATED:20250708T171051Z
LAST-MODIFIED:20250708T171051Z
UID:56224-1758096000-1758387600@hetins.com
SUMMARY:Congreso Latinoamericano de Medicina Interna Panamá 2025
DESCRIPTION:Fecha: 17 al 20 de septiembre de 2025\nLugar: Sortis Hotel\, Spa & Casino\, Panamá\, Provincia de Panamá\nOrganiza: Sociedad Panameña de Medicina Interna
URL:https://hetins.com/event/congreso-latinoamericano-de-medicina-interna-panama-2025/
CATEGORIES:Medicina General
ATTACH;FMTTYPE=image/png:https://hetins.com/wp-content/uploads/2025/07/2b7ffd_3e03aeaf5a854ecb9c9072b56d4f63ebmv2.png
END:VEVENT
BEGIN:VEVENT
DTSTART;TZID=America/New_York:20250916T080000
DTEND;TZID=America/New_York:20250919T170000
DTSTAMP:20260425T120522
CREATED:20250708T171538Z
LAST-MODIFIED:20250708T171538Z
UID:56231-1758009600-1758301200@hetins.com
SUMMARY:17º World Congress of Intensive and Critical Care
DESCRIPTION:Fecha: 16 al 19 de septiembre de 2025\nLugar: Vancouver\, Canadá\nOrganiza: Sociedad Canadiense de Cuidados Críticos
URL:https://hetins.com/event/17o-world-congress-of-intensive-and-critical-care/
CATEGORIES:Medicina General
ATTACH;FMTTYPE=image/webp:https://hetins.com/wp-content/uploads/2025/07/WCICC2025-Save-the-Date_Postcard.webp
END:VEVENT
BEGIN:VEVENT
DTSTART;TZID=America/New_York:20250915T080000
DTEND;TZID=America/New_York:20250919T170000
DTSTAMP:20260425T120522
CREATED:20250708T171256Z
LAST-MODIFIED:20250708T171333Z
UID:56228-1757923200-1758301200@hetins.com
SUMMARY:61° Reunión Anual de la European Association for the Study of Diabetes (EASD)
DESCRIPTION:Fecha: 15 al 19 de septiembre de 2025\nLugar: Viena\, Austria\nOrganiza: European Association for the Study of Diabetes
URL:https://hetins.com/event/61-reunion-anual-de-la-european-association-for-the-study-of-diabetes-easd/
CATEGORIES:Endocrinología
ATTACH;FMTTYPE=image/png:https://hetins.com/wp-content/uploads/2025/07/EASD25-1000px.png
END:VEVENT
BEGIN:VEVENT
DTSTART;TZID=America/New_York:20250824T080000
DTEND;TZID=America/New_York:20250829T170000
DTSTAMP:20260425T120522
CREATED:20250708T170822Z
LAST-MODIFIED:20250708T170822Z
UID:56221-1756022400-1756486800@hetins.com
SUMMARY:Congreso Internacional de Nutrición 2025
DESCRIPTION:Fecha: 24 al 29 de agosto próximo\nLugar: París\, Francia\nOrganiza: International Union of Nutritional sciencies
URL:https://hetins.com/event/congreso-internacional-de-nutricion-2025/
CATEGORIES:Medicina General
ATTACH;FMTTYPE=image/png:https://hetins.com/wp-content/uploads/2025/07/Screenshot-2024-05-15-at-11.02.35.png
END:VEVENT
BEGIN:VEVENT
DTSTART;TZID=America/New_York:20250814T080000
DTEND;TZID=America/New_York:20250817T170000
DTSTAMP:20260425T120522
CREATED:20241102T183119Z
LAST-MODIFIED:20241102T183119Z
UID:9486-1755158400-1755450000@hetins.com
SUMMARY:35º Congreso del Colegio Mexicano de Urología Ginecológica (CMUG)
DESCRIPTION:Fecha: 14 al 17 de agosto de 2025\nLugar: Guadalajara\, México\nOrganiza: Colegio Mexicano de Urología Ginecológica
URL:https://hetins.com/event/35o-congreso-del-colegio-mexicano-de-urologia-ginecologica-cmug/
ATTACH;FMTTYPE=image/jpeg:https://hetins.com/wp-content/uploads/2024/11/slide1.jpg
END:VEVENT
BEGIN:VEVENT
DTSTART;TZID=America/New_York:20250807T180000
DTEND;TZID=America/New_York:20250808T200000
DTSTAMP:20260425T120522
CREATED:20250728T183945Z
LAST-MODIFIED:20250728T184637Z
UID:56343-1754589600-1754683200@hetins.com
SUMMARY:Congreso Internacional sobre Lactancia Materna
DESCRIPTION:Fecha: 7 al 8 de agosto de 2025\nOnline\nOrganiza: Health Training Institute\n\nMayor información: https://hetins4.odoo.com/inscripcion1ercongresogratuitodelactanciamaterna
URL:https://hetins.com/event/congreso-internacional-sobre-lactancia-materna/
LOCATION:Virtual
CATEGORIES:Medicina General
ATTACH;FMTTYPE=image/jpeg:https://hetins.com/wp-content/uploads/2025/07/3.jpg
ORGANIZER;CN="Health Training Institute":MAILTO:htinstituteus@gmail.com
END:VEVENT
BEGIN:VEVENT
DTSTART;TZID=America/New_York:20250807T080000
DTEND;TZID=America/New_York:20250809T170000
DTSTAMP:20260425T120522
CREATED:20250708T170141Z
LAST-MODIFIED:20250708T170354Z
UID:56219-1754553600-1754758800@hetins.com
SUMMARY:I Congreso Internacional y XI Congreso Nacional del Colegio Médico de Panamá
DESCRIPTION:Fecha: 7 al 9 de agosto de 2025\nLugar: Hotel Sortis Panamá\nOrganiza: Colegio Médico de Panamá
URL:https://hetins.com/event/i-congreso-internacional-y-xi-congreso-nacional-del-colegio-medico-de-panama/
CATEGORIES:Medicina General
ATTACH;FMTTYPE=image/png:https://hetins.com/wp-content/uploads/2025/07/Le-esperamos-del-7-al-9-de-agosto-de-2025-en-el-I-Congreso-Internacional-y-XI-Congreso-Naciona.png
END:VEVENT
BEGIN:VEVENT
DTSTART;TZID=America/New_York:20250801T200000
DTEND;TZID=America/New_York:20250801T210000
DTSTAMP:20260425T120522
CREATED:20250728T214913Z
LAST-MODIFIED:20250728T214913Z
UID:56353-1754078400-1754082000@hetins.com
SUMMARY:Masterclass: El poder del Sistema Musculoesquelético en la salud integral
DESCRIPTION:Participa en la masterclass gratuita “El poder del Sistema Musculoesquelético en la salud integral”\, dictada por el Dr. Toribio H. Gómez\, especialista en Cirugía Ortopédica y Traumatología\, con amplia experiencia clínica y en gestión de servicios de salud. ¡Inscríbete ahora! \n\nFecha: 7 al 8 de agosto de 2025\nOnline\nOrganiza: Health Training Institute\n\nRegístrese AQUÍ
URL:https://hetins.com/event/masterclass-el-poder-del-sistema-musculoesqueletico-en-la-salud-integral/
CATEGORIES:Ortopedia y Traumatología
ATTACH;FMTTYPE=image/jpeg:https://hetins.com/wp-content/uploads/2025/07/1-1.jpg
END:VEVENT
BEGIN:VEVENT
DTSTART;TZID=America/New_York:20250701T080000
DTEND;TZID=America/New_York:20250701T170000
DTSTAMP:20260425T120522
CREATED:20241105T155438Z
LAST-MODIFIED:20241105T155438Z
UID:9575-1751356800-1751389200@hetins.com
SUMMARY:Taller de Innovación en Salud Mental
DESCRIPTION:Fecha: Julio de 2025\nLugar: Red Iberoamericana de Salud Digital (RISAD)\nDescripción: Taller que explora nuevas metodologías y tecnologías aplicadas al cuidado de la salud mental.
URL:https://hetins.com/event/taller-de-innovacion-en-salud-mental/
CATEGORIES:Salud Mental
ATTACH;FMTTYPE=image/png:https://hetins.com/wp-content/uploads/2024/11/logo-dark.a20ee425.png
END:VEVENT
BEGIN:VEVENT
DTSTART;TZID=America/New_York:20250620T080000
DTEND;TZID=America/New_York:20250620T170000
DTSTAMP:20260425T120522
CREATED:20241105T154929Z
LAST-MODIFIED:20241105T154929Z
UID:9572-1750406400-1750438800@hetins.com
SUMMARY:Curso de Actualización en Cardiología
DESCRIPTION:Fecha: Junio de 2025\nLugar: Sociedad Española de Cardiología\nDescripción: Curso que ofrece una visión práctica y actualizada sobre la prevención y tratamiento de enfermedades cardiovasculares.
URL:https://hetins.com/event/curso-de-actualizacion-en-cardiologia/
CATEGORIES:Cardiología
ATTACH;FMTTYPE=image/png:https://hetins.com/wp-content/uploads/2024/11/logo-80aniversario.png
END:VEVENT
BEGIN:VEVENT
DTSTART;TZID=America/New_York:20250611T080000
DTEND;TZID=America/New_York:20250613T170000
DTSTAMP:20260425T120522
CREATED:20241102T180711Z
LAST-MODIFIED:20241102T180711Z
UID:9461-1749628800-1749834000@hetins.com
SUMMARY:LXXXVIII Congreso Nacional de Urología
DESCRIPTION:Fecha: 11 al 13 de junio de 2025\nLugar: Cádiz\, España\nOrganiza: Asociación Española de Urología
URL:https://hetins.com/event/lxxxviii-congreso-nacional-de-urologia/
CATEGORIES:Urología
ATTACH;FMTTYPE=image/png:https://hetins.com/wp-content/uploads/2024/11/poster.png
END:VEVENT
BEGIN:VEVENT
DTSTART;TZID=America/New_York:20250411T080000
DTEND;TZID=America/New_York:20250413T170000
DTSTAMP:20260425T120522
CREATED:20241105T153728Z
LAST-MODIFIED:20241105T153728Z
UID:9560-1744358400-1744563600@hetins.com
SUMMARY:Congreso Portugués de Cardiología 2025
DESCRIPTION:Fecha: 11-13 de abril de 2025\nLugar: Centro de Congresos Alfândega do Porto\, Portugal\nDescripción: Evento que reúne a especialistas en cardiología para discutir avances y prácticas en la especialidad.
URL:https://hetins.com/event/congreso-portugues-de-cardiologia-2025/
CATEGORIES:Cardiología
ATTACH;FMTTYPE=image/jpeg:https://hetins.com/wp-content/uploads/2024/11/th.jpg
END:VEVENT
BEGIN:VEVENT
DTSTART;TZID=America/New_York:20250401T080000
DTEND;TZID=America/New_York:20250401T170000
DTSTAMP:20260425T120522
CREATED:20241105T154246Z
LAST-MODIFIED:20241105T154246Z
UID:9566-1743494400-1743526800@hetins.com
SUMMARY:Curso de Medicina de Estilo de Vida
DESCRIPTION:Fecha: Inicio en abril de 2025\nModalidad: En línea\nDescripción: Formación sobre la influencia del estilo de vida en la prevención y tratamiento de enfermedades.
URL:https://hetins.com/event/curso-de-medicina-de-estilo-de-vida/
CATEGORIES:Medicina General
ATTACH;FMTTYPE=image/jpeg:https://hetins.com/wp-content/uploads/2024/11/imagen_curso_560.1691145933.jpg
END:VEVENT
BEGIN:VEVENT
DTSTART;TZID=America/New_York:20250324T080000
DTEND;TZID=America/New_York:20250324T170000
DTSTAMP:20260425T120522
CREATED:20241105T154058Z
LAST-MODIFIED:20241105T154058Z
UID:9563-1742803200-1742835600@hetins.com
SUMMARY:Taller de Salud Mental y Bienestar Emocional
DESCRIPTION:Fecha: Marzo de 2025\nLugar: Confederación SALUD MENTAL ESPAÑA\nDescripción: Taller enfocado en estrategias para el cuidado de la salud mental y el bienestar emocional.
URL:https://hetins.com/event/taller-de-salud-mental-y-bienestar-emocional/
CATEGORIES:Salud Mental
ATTACH;FMTTYPE=image/png:https://hetins.com/wp-content/uploads/2024/11/logo-conferedacion-e1570639117114.png
END:VEVENT
BEGIN:VEVENT
DTSTART;TZID=America/New_York:20250321T080000
DTEND;TZID=America/New_York:20250324T170000
DTSTAMP:20260425T120522
CREATED:20241102T180841Z
LAST-MODIFIED:20241102T183611Z
UID:9466-1742544000-1742835600@hetins.com
SUMMARY:40º Congreso Anual de la Asociación Europea de Urología (EAU25)
DESCRIPTION:Fecha: 21 al 24 de marzo de 2025\nLugar: Madrid\, España\nOrganiza: Asociación Europea de Urología
URL:https://hetins.com/event/9466/
CATEGORIES:Urología
ATTACH;FMTTYPE=image/png:https://hetins.com/wp-content/uploads/2024/11/EAU25-logo-website.png
END:VEVENT
BEGIN:VEVENT
DTSTART;TZID=America/New_York:20250227T080000
DTEND;TZID=America/New_York:20250228T170000
DTSTAMP:20260425T120522
CREATED:20241102T181558Z
LAST-MODIFIED:20241102T181558Z
UID:9471-1740643200-1740762000@hetins.com
SUMMARY:XXII Jornadas Nacionales en Ginecología y Obstetricia
DESCRIPTION:Fecha: 27 y 28 de febrero de 2025\nLugar: Madrid\, España\nOrganiza: HM Gabinete Velázquez
URL:https://hetins.com/event/xxii-jornadas-nacionales-en-ginecologia-y-obstetricia/
ATTACH;FMTTYPE=image/jpeg:https://hetins.com/wp-content/uploads/2024/11/1531719999668o.jpg
END:VEVENT
BEGIN:VEVENT
DTSTART;TZID=America/New_York:20241201T080000
DTEND;TZID=America/New_York:20241201T170000
DTSTAMP:20260425T120522
CREATED:20241105T154626Z
LAST-MODIFIED:20241105T154626Z
UID:9569-1733040000-1733072400@hetins.com
SUMMARY:Diplomado en Telemedicina y Salud Digital
DESCRIPTION:Fecha: Inicio en mayo de 2025\nModalidad: En línea\nDescripción: Programa que capacita a profesionales en el uso de tecnologías digitales aplicadas a la medicina.
URL:https://hetins.com/event/diplomado-en-telemedicina-y-salud-digital/
CATEGORIES:Telemedicina
ATTACH;FMTTYPE=image/png:https://hetins.com/wp-content/uploads/2024/11/cropped-logo-teleMesa-de-trabajo-37-q80di6cc2ukcsv1x1zys3w6a73nmuamx71vk3ogf66.png
END:VEVENT
BEGIN:VEVENT
DTSTART;TZID=America/New_York:20241114T080000
DTEND;TZID=America/New_York:20241116T170000
DTSTAMP:20260425T120522
CREATED:20240802T203204Z
LAST-MODIFIED:20240802T203204Z
UID:9209-1731571200-1731776400@hetins.com
SUMMARY:XXI Congreso Venezolano de Oncología 2024. “Cambiando Paradigmas”
DESCRIPTION:
URL:https://hetins.com/event/xxi-congreso-venezolano-de-oncologia-2024-cambiando-paradigmas/
CATEGORIES:Oncología
ATTACH;FMTTYPE=image/jpeg:https://hetins.com/wp-content/uploads/2024/08/afiche-def.jpg
END:VEVENT
BEGIN:VEVENT
DTSTART;TZID=America/New_York:20241107T080000
DTEND;TZID=America/New_York:20241109T170000
DTSTAMP:20260425T120522
CREATED:20240802T202943Z
LAST-MODIFIED:20240802T202943Z
UID:9205-1730966400-1731171600@hetins.com
SUMMARY:Congreso Venezolano de Oftalmología
DESCRIPTION:
URL:https://hetins.com/event/congreso-venezolano-de-oftalmologia/
CATEGORIES:Oftalmología
ATTACH;FMTTYPE=image/png:https://hetins.com/wp-content/uploads/2024/08/Screenshot_5.png
END:VEVENT
BEGIN:VEVENT
DTSTART;TZID=America/New_York:20240605T080000
DTEND;TZID=America/New_York:20240607T170000
DTSTAMP:20260425T120522
CREATED:20240409T184031Z
LAST-MODIFIED:20240409T184031Z
UID:8593-1717574400-1717779600@hetins.com
SUMMARY:Congreso SIAC 2024
DESCRIPTION:En nombre de la Sociedad Interamericana de Cardiología es para nosotros un gran placer anunciarles la realización de nuestro próximo 31° Congreso Interamericano de Cardiología. El mismo tendrá lugar en la Ciudad de México del 5 al 7 de Junio de 2024. \nHemos seleccionado como sede el centro de convenciones del Hotel Camino Real Polanco\, emplazado en la zona de Polanco\, el cual nos brinda todas las facilidades requeridas para un evento de estas características. \nEl comité científico ha elaborado un intenso y atractivo programa\, el cual no tenemos dudas será de gran interés para la comunidad cardiológica de nuestra región. \nDespués del éxito alcanzado por el Congreso SIAC 2022 en la ciudad de Miami\,y por el Congreso SIAC 2023 en la Ciudad de Panamá estamos persuadidos que repetiremos un gran encuentro de la cardiologia las Américas\, donde compartiremos ciencia y experiencias en un marco de gran confraternidad y amistad. \nLos invitamos a ser parte de este evento y evaluar en conjunto oportunidades de colaboración con nuestra Sociedad.
URL:https://hetins.com/event/congreso-siac-2024/
CATEGORIES:Cardiología
ATTACH;FMTTYPE=image/jpeg:https://hetins.com/wp-content/uploads/2024/04/Diseno-sin-titulo-9.jpg
END:VEVENT
BEGIN:VEVENT
DTSTART;TZID=America/New_York:20240522T080000
DTEND;TZID=America/New_York:20240525T170000
DTSTAMP:20260425T120522
CREATED:20240409T190304Z
LAST-MODIFIED:20240409T190304Z
UID:8631-1716364800-1716656400@hetins.com
SUMMARY:XXXIV Congreso Nacional de Medicina Familiar
DESCRIPTION:Una oportunidad única para que médicos\, especialistas y profesionales de la salud en general\, puedan compartir conocimientos\, experiencias y actualizarse en los últimos avances en la atención primaria de la salud.
URL:https://hetins.com/event/xxxiv-congreso-nacional-de-medicina-familiar/
CATEGORIES:Medicina General
ATTACH;FMTTYPE=image/jpeg:https://hetins.com/wp-content/uploads/2024/04/Diseno-sin-titulo-14.jpg
END:VEVENT
BEGIN:VEVENT
DTSTART;TZID=America/New_York:20240516T080000
DTEND;TZID=America/New_York:20240518T170000
DTSTAMP:20260425T120522
CREATED:20240228T154818Z
LAST-MODIFIED:20240409T182720Z
UID:8328-1715846400-1716051600@hetins.com
SUMMARY:Congreso de Medicina Estética y Antiaging
DESCRIPTION:La medicina antienvejecimiento y la dermatología estética serán ejes centrales de nuestro congreso\, abordando cómo podemos ayudar a nuestros pacientes a preservar y mejorar la juventud de su piel de manera integral. Juntos\, examinaremos las últimas investigaciones y avances en estos campos\, impulsando la excelencia en nuestras prácticas diarias. La remodelación corporal\, un aspecto fundamental de la medicina estética moderna\, también ocupará un lugar destacado en nuestras discusiones. Desde las últimas tecnologías hasta las técnicas más efectivas\, nos sumergiremos en cómo esculpir y rejuvenecer el cuerpo de manera armoniosa y segura. Los tratamientos capilares\, un área en constante evolución\, serán explorados en detalle. Descubriremos las estrategias más efectivas para abordar la salud y la estética capilar\, mejorando la calidad de vida de nuestros pacientes.
URL:https://hetins.com/event/congreso-de-medicina-estetica-y-antiaging/
CATEGORIES:Medicina Estética
ATTACH;FMTTYPE=image/png:https://hetins.com/wp-content/uploads/2024/02/Logo-Pet-Shop-Animall-9.png
END:VEVENT
BEGIN:VEVENT
DTSTART;TZID=America/New_York:20240511T080000
DTEND;TZID=America/New_York:20240514T170000
DTSTAMP:20260425T120522
CREATED:20240409T221836Z
LAST-MODIFIED:20240409T222204Z
UID:8678-1715414400-1715706000@hetins.com
SUMMARY:26º Congreso Europeo de Endocrinología (ECE 2024)
DESCRIPTION:ECE\, que atrae a más de 4.000 delegados de más de 100 países\, continúa desarrollándose como un congreso líder mundial para especialistas en endocrinos. Dado que la comunidad de la Sociedad Europea de Endocrinología trabaja en diversos temas de investigación y atiende a pacientes con una amplia gama de afecciones\, ECE permite el acceso a un programa integral que cubre toda la especialidad. Cualquiera que sea su área de interés\, habrá sesiones de relevancia directa\, así como amplias oportunidades para establecer contactos.
URL:https://hetins.com/event/26o-congreso-europeo-de-endocrinologia-ece-2024/
CATEGORIES:Endocrinología
ATTACH;FMTTYPE=image/jpeg:https://hetins.com/wp-content/uploads/2024/04/Diseno-sin-titulo-20.jpg
END:VEVENT
END:VCALENDAR