BEGIN:VCALENDAR
VERSION:2.0
PRODID:-//Health Training Institute - ECPv6.6.0.2//NONSGML v1.0//EN
CALSCALE:GREGORIAN
METHOD:PUBLISH
X-WR-CALNAME:Health Training Institute
X-ORIGINAL-URL:https://hetins.com
X-WR-CALDESC:Eventos para Health Training Institute
REFRESH-INTERVAL;VALUE=DURATION:PT1H
X-Robots-Tag:noindex
X-PUBLISHED-TTL:PT1H
BEGIN:VTIMEZONE
TZID:America/New_York
BEGIN:DAYLIGHT
TZOFFSETFROM:-0500
TZOFFSETTO:-0400
TZNAME:EDT
DTSTART:20240310T070000
END:DAYLIGHT
BEGIN:STANDARD
TZOFFSETFROM:-0400
TZOFFSETTO:-0500
TZNAME:EST
DTSTART:20241103T060000
END:STANDARD
BEGIN:DAYLIGHT
TZOFFSETFROM:-0500
TZOFFSETTO:-0400
TZNAME:EDT
DTSTART:20250309T070000
END:DAYLIGHT
BEGIN:STANDARD
TZOFFSETFROM:-0400
TZOFFSETTO:-0500
TZNAME:EST
DTSTART:20251102T060000
END:STANDARD
END:VTIMEZONE
BEGIN:VEVENT
DTSTART;TZID=America/New_York:20250324T080000
DTEND;TZID=America/New_York:20250324T170000
DTSTAMP:20260425T151705
CREATED:20241105T154058Z
LAST-MODIFIED:20241105T154058Z
UID:9563-1742803200-1742835600@hetins.com
SUMMARY:Taller de Salud Mental y Bienestar Emocional
DESCRIPTION:Fecha: Marzo de 2025\nLugar: Confederación SALUD MENTAL ESPAÑA\nDescripción: Taller enfocado en estrategias para el cuidado de la salud mental y el bienestar emocional.
URL:https://hetins.com/event/taller-de-salud-mental-y-bienestar-emocional/
CATEGORIES:Salud Mental
ATTACH;FMTTYPE=image/png:https://hetins.com/wp-content/uploads/2024/11/logo-conferedacion-e1570639117114.png
END:VEVENT
BEGIN:VEVENT
DTSTART;TZID=America/New_York:20250321T080000
DTEND;TZID=America/New_York:20250324T170000
DTSTAMP:20260425T151705
CREATED:20241102T180841Z
LAST-MODIFIED:20241102T183611Z
UID:9466-1742544000-1742835600@hetins.com
SUMMARY:40º Congreso Anual de la Asociación Europea de Urología (EAU25)
DESCRIPTION:Fecha: 21 al 24 de marzo de 2025\nLugar: Madrid\, España\nOrganiza: Asociación Europea de Urología
URL:https://hetins.com/event/9466/
CATEGORIES:Urología
ATTACH;FMTTYPE=image/png:https://hetins.com/wp-content/uploads/2024/11/EAU25-logo-website.png
END:VEVENT
BEGIN:VEVENT
DTSTART;TZID=America/New_York:20250227T080000
DTEND;TZID=America/New_York:20250228T170000
DTSTAMP:20260425T151705
CREATED:20241102T181558Z
LAST-MODIFIED:20241102T181558Z
UID:9471-1740643200-1740762000@hetins.com
SUMMARY:XXII Jornadas Nacionales en Ginecología y Obstetricia
DESCRIPTION:Fecha: 27 y 28 de febrero de 2025\nLugar: Madrid\, España\nOrganiza: HM Gabinete Velázquez
URL:https://hetins.com/event/xxii-jornadas-nacionales-en-ginecologia-y-obstetricia/
ATTACH;FMTTYPE=image/jpeg:https://hetins.com/wp-content/uploads/2024/11/1531719999668o.jpg
END:VEVENT
BEGIN:VEVENT
DTSTART;TZID=America/New_York:20241201T080000
DTEND;TZID=America/New_York:20241201T170000
DTSTAMP:20260425T151705
CREATED:20241105T154626Z
LAST-MODIFIED:20241105T154626Z
UID:9569-1733040000-1733072400@hetins.com
SUMMARY:Diplomado en Telemedicina y Salud Digital
DESCRIPTION:Fecha: Inicio en mayo de 2025\nModalidad: En línea\nDescripción: Programa que capacita a profesionales en el uso de tecnologías digitales aplicadas a la medicina.
URL:https://hetins.com/event/diplomado-en-telemedicina-y-salud-digital/
CATEGORIES:Telemedicina
ATTACH;FMTTYPE=image/png:https://hetins.com/wp-content/uploads/2024/11/cropped-logo-teleMesa-de-trabajo-37-q80di6cc2ukcsv1x1zys3w6a73nmuamx71vk3ogf66.png
END:VEVENT
BEGIN:VEVENT
DTSTART;TZID=America/New_York:20241114T080000
DTEND;TZID=America/New_York:20241116T170000
DTSTAMP:20260425T151705
CREATED:20240802T203204Z
LAST-MODIFIED:20240802T203204Z
UID:9209-1731571200-1731776400@hetins.com
SUMMARY:XXI Congreso Venezolano de Oncología 2024. “Cambiando Paradigmas”
DESCRIPTION:
URL:https://hetins.com/event/xxi-congreso-venezolano-de-oncologia-2024-cambiando-paradigmas/
CATEGORIES:Oncología
ATTACH;FMTTYPE=image/jpeg:https://hetins.com/wp-content/uploads/2024/08/afiche-def.jpg
END:VEVENT
BEGIN:VEVENT
DTSTART;TZID=America/New_York:20241107T080000
DTEND;TZID=America/New_York:20241109T170000
DTSTAMP:20260425T151705
CREATED:20240802T202943Z
LAST-MODIFIED:20240802T202943Z
UID:9205-1730966400-1731171600@hetins.com
SUMMARY:Congreso Venezolano de Oftalmología
DESCRIPTION:
URL:https://hetins.com/event/congreso-venezolano-de-oftalmologia/
CATEGORIES:Oftalmología
ATTACH;FMTTYPE=image/png:https://hetins.com/wp-content/uploads/2024/08/Screenshot_5.png
END:VEVENT
BEGIN:VEVENT
DTSTART;TZID=America/New_York:20240605T080000
DTEND;TZID=America/New_York:20240607T170000
DTSTAMP:20260425T151705
CREATED:20240409T184031Z
LAST-MODIFIED:20240409T184031Z
UID:8593-1717574400-1717779600@hetins.com
SUMMARY:Congreso SIAC 2024
DESCRIPTION:En nombre de la Sociedad Interamericana de Cardiología es para nosotros un gran placer anunciarles la realización de nuestro próximo 31° Congreso Interamericano de Cardiología. El mismo tendrá lugar en la Ciudad de México del 5 al 7 de Junio de 2024. \nHemos seleccionado como sede el centro de convenciones del Hotel Camino Real Polanco\, emplazado en la zona de Polanco\, el cual nos brinda todas las facilidades requeridas para un evento de estas características. \nEl comité científico ha elaborado un intenso y atractivo programa\, el cual no tenemos dudas será de gran interés para la comunidad cardiológica de nuestra región. \nDespués del éxito alcanzado por el Congreso SIAC 2022 en la ciudad de Miami\,y por el Congreso SIAC 2023 en la Ciudad de Panamá estamos persuadidos que repetiremos un gran encuentro de la cardiologia las Américas\, donde compartiremos ciencia y experiencias en un marco de gran confraternidad y amistad. \nLos invitamos a ser parte de este evento y evaluar en conjunto oportunidades de colaboración con nuestra Sociedad.
URL:https://hetins.com/event/congreso-siac-2024/
CATEGORIES:Cardiología
ATTACH;FMTTYPE=image/jpeg:https://hetins.com/wp-content/uploads/2024/04/Diseno-sin-titulo-9.jpg
END:VEVENT
BEGIN:VEVENT
DTSTART;TZID=America/New_York:20240522T080000
DTEND;TZID=America/New_York:20240525T170000
DTSTAMP:20260425T151705
CREATED:20240409T190304Z
LAST-MODIFIED:20240409T190304Z
UID:8631-1716364800-1716656400@hetins.com
SUMMARY:XXXIV Congreso Nacional de Medicina Familiar
DESCRIPTION:Una oportunidad única para que médicos\, especialistas y profesionales de la salud en general\, puedan compartir conocimientos\, experiencias y actualizarse en los últimos avances en la atención primaria de la salud.
URL:https://hetins.com/event/xxxiv-congreso-nacional-de-medicina-familiar/
CATEGORIES:Medicina General
ATTACH;FMTTYPE=image/jpeg:https://hetins.com/wp-content/uploads/2024/04/Diseno-sin-titulo-14.jpg
END:VEVENT
BEGIN:VEVENT
DTSTART;TZID=America/New_York:20240516T080000
DTEND;TZID=America/New_York:20240518T170000
DTSTAMP:20260425T151705
CREATED:20240228T154818Z
LAST-MODIFIED:20240409T182720Z
UID:8328-1715846400-1716051600@hetins.com
SUMMARY:Congreso de Medicina Estética y Antiaging
DESCRIPTION:La medicina antienvejecimiento y la dermatología estética serán ejes centrales de nuestro congreso\, abordando cómo podemos ayudar a nuestros pacientes a preservar y mejorar la juventud de su piel de manera integral. Juntos\, examinaremos las últimas investigaciones y avances en estos campos\, impulsando la excelencia en nuestras prácticas diarias. La remodelación corporal\, un aspecto fundamental de la medicina estética moderna\, también ocupará un lugar destacado en nuestras discusiones. Desde las últimas tecnologías hasta las técnicas más efectivas\, nos sumergiremos en cómo esculpir y rejuvenecer el cuerpo de manera armoniosa y segura. Los tratamientos capilares\, un área en constante evolución\, serán explorados en detalle. Descubriremos las estrategias más efectivas para abordar la salud y la estética capilar\, mejorando la calidad de vida de nuestros pacientes.
URL:https://hetins.com/event/congreso-de-medicina-estetica-y-antiaging/
CATEGORIES:Medicina Estética
ATTACH;FMTTYPE=image/png:https://hetins.com/wp-content/uploads/2024/02/Logo-Pet-Shop-Animall-9.png
END:VEVENT
BEGIN:VEVENT
DTSTART;TZID=America/New_York:20240511T080000
DTEND;TZID=America/New_York:20240514T170000
DTSTAMP:20260425T151705
CREATED:20240409T221836Z
LAST-MODIFIED:20240409T222204Z
UID:8678-1715414400-1715706000@hetins.com
SUMMARY:26º Congreso Europeo de Endocrinología (ECE 2024)
DESCRIPTION:ECE\, que atrae a más de 4.000 delegados de más de 100 países\, continúa desarrollándose como un congreso líder mundial para especialistas en endocrinos. Dado que la comunidad de la Sociedad Europea de Endocrinología trabaja en diversos temas de investigación y atiende a pacientes con una amplia gama de afecciones\, ECE permite el acceso a un programa integral que cubre toda la especialidad. Cualquiera que sea su área de interés\, habrá sesiones de relevancia directa\, así como amplias oportunidades para establecer contactos.
URL:https://hetins.com/event/26o-congreso-europeo-de-endocrinologia-ece-2024/
CATEGORIES:Endocrinología
ATTACH;FMTTYPE=image/jpeg:https://hetins.com/wp-content/uploads/2024/04/Diseno-sin-titulo-20.jpg
END:VEVENT
BEGIN:VEVENT
DTSTART;TZID=America/New_York:20240510T080000
DTEND;TZID=America/New_York:20240514T170000
DTSTAMP:20260425T151705
CREATED:20240409T192712Z
LAST-MODIFIED:20240409T192932Z
UID:8653-1715328000-1715706000@hetins.com
SUMMARY:Reunión Anual 2025 de Ortopedia
DESCRIPTION:La Reunión Anual es el principal evento de cirugía ortopédica y salud musculoesquelética. Es donde puedo obtener información de primera mano de los líderes en el campo a través de sesiones interactivas y atractivas. Es el lugar para tener en sus manos las últimas tecnologías e innovaciones en la Sala de Exposiciones. Es una oportunidad invaluable para volver a conectarse con colegas y ampliar su red . \n¡Solo tienes que estar allí para experimentarlo por ti mismo! \nLa convocatoria de resúmenes ya está abierta y lo invitamos a considerar la posibilidad de presentarlos en la Reunión Anual de 2025 en San Diego\, California\, del 10 al 14 de marzo.
URL:https://hetins.com/event/reunion-anual-2025-de-ortopedia/
CATEGORIES:Ortopedia y Traumatología
ATTACH;FMTTYPE=image/jpeg:https://hetins.com/wp-content/uploads/2024/04/Diseno-sin-titulo-17.jpg
END:VEVENT
BEGIN:VEVENT
DTSTART;TZID=America/New_York:20240508T080000
DTEND;TZID=America/New_York:20240515T170000
DTSTAMP:20260425T151705
CREATED:20240409T190728Z
LAST-MODIFIED:20240409T190728Z
UID:8638-1715155200-1715792400@hetins.com
SUMMARY:XI Congreso Internacional Virtual de Enfermería
DESCRIPTION:En la 11ª edición del Congreso Internacional de Enfermería de 2024 te ofrecemos la oportunidad perfecta para mejorar tu formación y seguir avanzando en la mejora de la atención sanitaria. \nEste evento marca la excelencia y la dedicación de nuestra fundación a lo largo de 11 años. \nEl congreso es 100% virtual y contará con una variada gama de trabajos\, que incluye ponencias\, comunicaciones\, mesas redondas\, talleres interactivos y galería de posters. \nPodrás publicar tus trabajos y por supuesto obtener los distintos certificados oficiales\, válidos para baremar e impulsar tu carrera en enfermería. \n¿Quieres llevar tu carrera de enfermería al siguiente nivel? ¡Regístrate ahora y asegura tu participación en el Congreso!
URL:https://hetins.com/event/xi-congreso-internacional-virtual-de-enfermeria/
LOCATION:Virtual
CATEGORIES:Enfermería
ATTACH;FMTTYPE=image/jpeg:https://hetins.com/wp-content/uploads/2024/04/Diseno-sin-titulo-15.jpg
END:VEVENT
BEGIN:VEVENT
DTSTART;TZID=America/New_York:20240424T080000
DTEND;TZID=America/New_York:20240428T170000
DTSTAMP:20260425T151705
CREATED:20240226T215149Z
LAST-MODIFIED:20240226T215149Z
UID:8319-1713945600-1714323600@hetins.com
SUMMARY:Conferencia de Medicina de la Obesidad 2024
DESCRIPTION:Únase a otros médicos especialistas en medicina de la obesidad en Denver\, CO\, para la Conferencia Anual. Esta nueva cadencia de conferencias comienza en 2024: la Conferencia Anual se llevará a cabo en la primavera de cada año y contará con múltiples cursos previos a la conferencia\, así como una oferta diversa de sesiones educativas sobre medicina de la obesidad.
URL:https://hetins.com/event/conferencia-de-medicina-de-la-obesidad-2024/
CATEGORIES:Endocrinología
ATTACH;FMTTYPE=image/png:https://hetins.com/wp-content/uploads/2024/02/Logo-Pet-Shop-Animall-8.png
END:VEVENT
BEGIN:VEVENT
DTSTART;TZID=America/New_York:20240418T080000
DTEND;TZID=America/New_York:20240421T170000
DTSTAMP:20260425T151705
CREATED:20240409T222122Z
LAST-MODIFIED:20240409T222142Z
UID:8688-1713427200-1713718800@hetins.com
SUMMARY:Curso Internacional de Endocrinología\, Diabetes y Metabolismo
DESCRIPTION:
URL:https://hetins.com/event/curso-internacional-de-endocrinologia-diabetes-y-metabolismo/
CATEGORIES:Endocrinología
ATTACH;FMTTYPE=image/jpeg:https://hetins.com/wp-content/uploads/2024/04/Diseno-sin-titulo-21.jpg
END:VEVENT
BEGIN:VEVENT
DTSTART;TZID=America/New_York:20240418T080000
DTEND;TZID=America/New_York:20240420T170000
DTSTAMP:20260425T151705
CREATED:20240228T175147Z
LAST-MODIFIED:20240409T182617Z
UID:8352-1713427200-1713632400@hetins.com
SUMMARY:Critical Care Congress 2024 Pánama
DESCRIPTION:1º Congreso Internacional de la Sociedad Mundial de Oncología Crítica\n1st International Congress of the World Society of Critical Oncology\n15º Congreso Panameño de Medicina Crítica y Terapia Intensiva\n5th Panamanian Congress of Critical Medicine and Intensive Care\n2º Congreso Panameño de Pediatría Crítica – 2º Congreso Panameño de Enfermería Crítica\n2nd Panamanian Congress of Critical Pediatrics – 2nd Panamanian Congress of Critical Nursing
URL:https://hetins.com/event/critical-care-congress-2024-panama/
CATEGORIES:Oncología
ATTACH;FMTTYPE=image/png:https://hetins.com/wp-content/uploads/2024/02/Logo-Pet-Shop-Animall-10.png
END:VEVENT
BEGIN:VEVENT
DTSTART;TZID=America/New_York:20240417T080000
DTEND;TZID=America/New_York:20240420T170000
DTSTAMP:20260425T151705
CREATED:20240409T191120Z
LAST-MODIFIED:20240409T191233Z
UID:8646-1713340800-1713632400@hetins.com
SUMMARY:XII Congreso Internacional de Enfermería
DESCRIPTION:“Inteligencia artificial como elemento transformador en enfermería”. \n\n3 conferencias magistrales.\n6 ponencias.\n1 foro de cooperación institucional.\n1 concurso de conocimientos.\n\nEjes temáticos: \n\nTransformando la atención de enfermería.\nEnfermería e inteligencia artificial.\nInnovando el futuro de la enfermería.\n\nDel 17 al 20 de abril de 2024. \nSede: Conjunto Santander de Artes Escénicas (avenida Periférico Norte No. 1695\, colonia Parque Industrial Belenes Norte\, Zapopan\, Jalisco).
URL:https://hetins.com/event/xii-congreso-internacional-de-enfermeria/
CATEGORIES:Enfermería
ATTACH;FMTTYPE=image/jpeg:https://hetins.com/wp-content/uploads/2024/04/Diseno-sin-titulo-16.jpg
END:VEVENT
BEGIN:VEVENT
DTSTART;TZID=America/New_York:20240409T080000
DTEND;TZID=America/New_York:20240409T170000
DTSTAMP:20260425T151705
CREATED:20240409T162532Z
LAST-MODIFIED:20240409T182515Z
UID:8509-1712649600-1712682000@hetins.com
SUMMARY:Congreso Mundial contra el Cáncer 2024
DESCRIPTION:El Congreso Mundial sobre el Cáncer 2024 de la UICC se llevará a cabo del 17 al 19 de septiembre de 2024 en Ginebra\, Suiza.
URL:https://hetins.com/event/congreso-mundial-contra-el-cancer-2024/
CATEGORIES:Oncología
ATTACH;FMTTYPE=image/jpeg:https://hetins.com/wp-content/uploads/2024/04/12.jpg
END:VEVENT
BEGIN:VEVENT
DTSTART;TZID=America/New_York:20240406T080000
DTEND;TZID=America/New_York:20240408T170000
DTSTAMP:20260425T151705
CREATED:20240409T181234Z
LAST-MODIFIED:20240409T181639Z
UID:8545-1712390400-1712595600@hetins.com
SUMMARY:ACC.24
DESCRIPTION:Del 6 al 8 de abril\, miles de profesionales cardiovasculares de todo el mundo se reunieron para debatir y discutir ciencia e innovaciones que cambian la práctica. Ya sea que se haya unido a nosotros en persona o virtualmente\, ¡gracias por tomarse el tiempo y unirse a nosotros en ACC.24! \n¡Reserve la fecha para unirse a nosotros en Chicago para ACC.25 que se llevará a cabo del 29 al 31 de marzo de 2025!
URL:https://hetins.com/event/acc-24/
CATEGORIES:Cardiología
ATTACH;FMTTYPE=image/jpeg:https://hetins.com/wp-content/uploads/2024/04/5.jpg
END:VEVENT
BEGIN:VEVENT
DTSTART;TZID=America/New_York:20240309T080000
DTEND;TZID=America/New_York:20240312T170000
DTSTAMP:20260425T151705
CREATED:20240226T212527Z
LAST-MODIFIED:20240409T182422Z
UID:8308-1709971200-1710262800@hetins.com
SUMMARY:MEDITECH Feria Internacional de la Salud
DESCRIPTION:Meditech 2024 “Powered by Medica” es el escenario que reúne a los principales actores y representantes de las instituciones más importantes del sector salud en América Latina\, alrededor de la más completa muestra comercial de productos y servicios relacionados con la tecnología médica y clínica\, con el fin de actualizarse\, generar negocios y conocer las tendencias y prioridades del sector de la salud. Es un espacio de actualización y vitrina de lanzamientos del sector salud en la Región Andina\, Centroamérica y Suramérica.
URL:https://hetins.com/event/meditech-feria-internacional-de-la-salud/
CATEGORIES:Medicina General
ATTACH;FMTTYPE=image/jpeg:https://hetins.com/wp-content/uploads/2024/02/Diseno-sin-titulo-7.jpg
END:VEVENT
BEGIN:VEVENT
DTSTART;TZID=America/New_York:20240307T080000
DTEND;TZID=America/New_York:20240309T170000
DTSTAMP:20260425T151705
CREATED:20240226T203449Z
LAST-MODIFIED:20240409T181718Z
UID:8292-1709798400-1710003600@hetins.com
SUMMARY:Congreso FACOCARIBE 2024
DESCRIPTION:Es el congreso bianual de oftalmología\, creado por la Clínica Oftalmológica del Caribe en Barranquilla\, Colombia\, el cual integra la experiencia\, el aprendizaje\, la innovación y a expertos en oftalmología para desarrollar los distintos programas y propuestas académicas en las especialidades médicas oftalmológicas como: cirugía de catarata; retina; glaucoma; colpoplastia; inteligencia artificial y estrategias de enseñanza en la oftalmología moderna.
URL:https://hetins.com/event/congreso-facocaribe-2024/
CATEGORIES:Oftalmología
ATTACH;FMTTYPE=image/png:https://hetins.com/wp-content/uploads/2024/02/Logo-Pet-Shop-Animall-7.png
END:VEVENT
BEGIN:VEVENT
DTSTART;TZID=America/New_York:20240222T073000
DTEND;TZID=America/New_York:20240222T170000
DTSTAMP:20260425T151705
CREATED:20240219T165558Z
LAST-MODIFIED:20240219T165558Z
UID:8183-1708587000-1708621200@hetins.com
SUMMARY:Webinar Principios Básicos de Artroscopía de Muñeca
DESCRIPTION:
URL:https://hetins.com/event/webinar-principios-basicos-de-artroscopia-de-muneca/
ATTACH;FMTTYPE=image/jpeg:https://hetins.com/wp-content/uploads/2024/02/Principios-basicos-de-la-artroscoia-en-Muneca.jpg
ORGANIZER;CN="Sociedad Colombiana de Cirug%C3%ADa Ortopedia y Traumatolog%C3%ADa SCCOT":MAILTO:sccot@sccot.org.co
END:VEVENT
END:VCALENDAR