BEGIN:VCALENDAR
VERSION:2.0
PRODID:-//Health Training Institute - ECPv6.6.0.2//NONSGML v1.0//EN
CALSCALE:GREGORIAN
METHOD:PUBLISH
X-WR-CALNAME:Health Training Institute
X-ORIGINAL-URL:https://hetins.com
X-WR-CALDESC:Eventos para Health Training Institute
REFRESH-INTERVAL;VALUE=DURATION:PT1H
X-Robots-Tag:noindex
X-PUBLISHED-TTL:PT1H
BEGIN:VTIMEZONE
TZID:America/New_York
BEGIN:DAYLIGHT
TZOFFSETFROM:-0500
TZOFFSETTO:-0400
TZNAME:EDT
DTSTART:20240310T070000
END:DAYLIGHT
BEGIN:STANDARD
TZOFFSETFROM:-0400
TZOFFSETTO:-0500
TZNAME:EST
DTSTART:20241103T060000
END:STANDARD
END:VTIMEZONE
BEGIN:VEVENT
DTSTART;TZID=America/New_York:20240222T073000
DTEND;TZID=America/New_York:20240222T170000
DTSTAMP:20260425T182430
CREATED:20240219T165558Z
LAST-MODIFIED:20240219T165558Z
UID:8183-1708587000-1708621200@hetins.com
SUMMARY:Webinar Principios Básicos de Artroscopía de Muñeca
DESCRIPTION:
URL:https://hetins.com/event/webinar-principios-basicos-de-artroscopia-de-muneca/
ATTACH;FMTTYPE=image/jpeg:https://hetins.com/wp-content/uploads/2024/02/Principios-basicos-de-la-artroscoia-en-Muneca.jpg
ORGANIZER;CN="Sociedad Colombiana de Cirug%C3%ADa Ortopedia y Traumatolog%C3%ADa SCCOT":MAILTO:sccot@sccot.org.co
END:VEVENT
END:VCALENDAR